BEGIN:VCALENDAR
VERSION:2.0
PRODID:-//Sabre//Sabre VObject 4.5.7//EN
CALSCALE:GREGORIAN
BEGIN:VEVENT
UID:sabre-vobject-ed502057-a428-4c8a-b221-a87fd9971b5a
DTSTAMP:20260424T100914Z
SUMMARY:Wochenmarkt
DESCRIPTION:https://stadtmarketing-neuburg.de/veranstaltungen/wochenmarkt_i
 d16255
DTSTART;TZID=Europe/Berlin:20240817T063000
DTEND;TZID=Europe/Berlin:20240817T123000
LOCATION:Schrannenplatz\, Schrannenplatz\, 86633 Neuburg an der Donau
END:VEVENT
END:VCALENDAR
