BEGIN:VCALENDAR
VERSION:2.0
PRODID:-//Sabre//Sabre VObject 4.5.7//EN
CALSCALE:GREGORIAN
BEGIN:VEVENT
UID:sabre-vobject-9853a934-4e28-4b7a-b9ad-ad4f54b94a5f
DTSTAMP:20260419T185619Z
SUMMARY:Öffentliche Stadtführung
DESCRIPTION:https://stadtmarketing-neuburg.de/veranstaltungen/oeffentliche-
 stadtfuehrung_id16995
DTSTART;TZID=Europe/Berlin:20240818T143000
DTEND;TZID=Europe/Berlin:20240818T160000
LOCATION:Tourist-Information\, Ottheinrichplatz A 118\, 86633 Neuburg
END:VEVENT
END:VCALENDAR
