BEGIN:VCALENDAR
VERSION:2.0
PRODID:-//Sabre//Sabre VObject 4.5.7//EN
CALSCALE:GREGORIAN
BEGIN:VEVENT
UID:sabre-vobject-f5dd2a9e-6aba-49a0-92c8-8e364c2107f5
DTSTAMP:20260420T041546Z
SUMMARY:Öffentliche Stadtführung
DESCRIPTION:https://stadtmarketing-neuburg.de/veranstaltungen/oeffentliche-
 stadtfuehrung_id17026
DTSTART;TZID=Europe/Berlin:20240817T160000
DTEND;TZID=Europe/Berlin:20240817T173000
LOCATION:Tourist-Information\, Ottheinrichplatz A 118\, 86633 Neuburg
END:VEVENT
END:VCALENDAR
