BEGIN:VCALENDAR
VERSION:2.0
PRODID:-//Sabre//Sabre VObject 4.5.7//EN
CALSCALE:GREGORIAN
BEGIN:VEVENT
UID:sabre-vobject-48b0ab8a-704f-408d-9f22-9282f6c4cb6f
DTSTAMP:20260425T012533Z
SUMMARY:Öffentliche Stadtführung
DESCRIPTION:https://stadtmarketing-neuburg.de/veranstaltungen/oeffentliche-
 stadtfuehrung_id17044
DTSTART;TZID=Europe/Berlin:20240815T143000
DTEND;TZID=Europe/Berlin:20240815T160000
LOCATION:Tourist-Information\, Ottheinrichplatz A 118\, 86633 Neuburg
END:VEVENT
END:VCALENDAR
