BEGIN:VCALENDAR
VERSION:2.0
PRODID:-//Sabre//Sabre VObject 4.5.7//EN
CALSCALE:GREGORIAN
BEGIN:VEVENT
UID:sabre-vobject-278e2cf5-d46e-47df-a72f-a8fedcaa6dc4
DTSTAMP:20260419T220032Z
SUMMARY:Schlosstour am Sonntag
DESCRIPTION:https://stadtmarketing-neuburg.de/veranstaltungen/schlosstour-a
 m-sonntag_id17055
DTSTART;TZID=Europe/Berlin:20240818T113000
DTEND;TZID=Europe/Berlin:20240818T130000
LOCATION:Residenzschloss Neuburg\, Residenzstraße 2\, 86633 Neuburg an der
  Donau
END:VEVENT
END:VCALENDAR
