BEGIN:VCALENDAR
VERSION:2.0
PRODID:-//Sabre//Sabre VObject 4.5.7//EN
CALSCALE:GREGORIAN
BEGIN:VEVENT
UID:sabre-vobject-2edd63db-0db7-4847-a78d-a755192dd916
DTSTAMP:20260424T113137Z
SUMMARY:Nachtwächterführung
DESCRIPTION:https://stadtmarketing-neuburg.de/veranstaltungen/nachtwaechter
 fuehrung_id17075
DTSTART;TZID=Europe/Berlin:20240816T203000
DTEND;TZID=Europe/Berlin:20240816T220000
LOCATION:Tourist-Information\, Ottheinrichplatz A 118\, 86633 Neuburg
END:VEVENT
END:VCALENDAR
