BEGIN:VCALENDAR
VERSION:2.0
PRODID:-//Sabre//Sabre VObject 4.5.7//EN
CALSCALE:GREGORIAN
BEGIN:VEVENT
UID:sabre-vobject-2e9acebf-3ed5-4b0d-ba40-225e9a908802
DTSTAMP:20260424T235158Z
SUMMARY:Erstberatung des Gründertreffs Neuburg
DESCRIPTION:https://stadtmarketing-neuburg.de/veranstaltungen/erstberatung-
 des-gruendertreffs-neuburg_id17107
DTSTART;TZID=Europe/Berlin:20240815T170000
DTEND;TZID=Europe/Berlin:20240815T190000
LOCATION:das otto\, Schmidstraße 113\, 86633 Neuburg an der Donau
END:VEVENT
END:VCALENDAR
