BEGIN:VCALENDAR
VERSION:2.0
PRODID:-//Sabre//Sabre VObject 4.5.7//EN
CALSCALE:GREGORIAN
BEGIN:VEVENT
UID:sabre-vobject-00d0aa73-1e8e-4e92-a66c-7790acab8ff8
DTSTAMP:20260420T010944Z
SUMMARY:Vulkane  - Explosive Ventile der Erde 
DESCRIPTION:https://stadtmarketing-neuburg.de/veranstaltungen/vulkane-explo
 sive-ventile-der-erde_id17370
DTSTART;TZID=Europe/Berlin:20240818T100000
DTEND;TZID=Europe/Berlin:20240818T170000
LOCATION:Ottheinrichturm\, \, 86633 Neuburg an der Donau
END:VEVENT
END:VCALENDAR
