BEGIN:VCALENDAR
VERSION:2.0
PRODID:-//Sabre//Sabre VObject 4.5.7//EN
CALSCALE:GREGORIAN
BEGIN:VEVENT
UID:sabre-vobject-6a5a2ab8-19e1-4a4e-ab4a-5322fd6c770c
DTSTAMP:20260424T192712Z
SUMMARY:Fotografien von Robert Larsen
DESCRIPTION:https://stadtmarketing-neuburg.de/veranstaltungen/fotografien-v
 on-robert-larsen_id17667
DTSTART;TZID=Europe/Berlin:20240816T093000
DTEND;TZID=Europe/Berlin:20240816T180000
LOCATION:Stadtbücherei im Bücherturm\, Sèter Platz 1\, 86633 Neuburg an 
 der Donau
END:VEVENT
END:VCALENDAR
