BEGIN:VCALENDAR
VERSION:2.0
PRODID:-//Sabre//Sabre VObject 4.5.7//EN
CALSCALE:GREGORIAN
BEGIN:VEVENT
UID:sabre-vobject-d8d6f24d-7ba2-421b-adf3-b0267ddf8c03
DTSTAMP:20260419T125850Z
SUMMARY:Fotografien von Robert Larsen
DESCRIPTION:https://stadtmarketing-neuburg.de/veranstaltungen/fotografien-v
 on-robert-larsen_id17685
DTSTART;TZID=Europe/Berlin:20240820T093000
DTEND;TZID=Europe/Berlin:20240820T180000
LOCATION:Stadtbücherei im Bücherturm\, Sèter Platz 1\, 86633 Neuburg an 
 der Donau
END:VEVENT
END:VCALENDAR
