BEGIN:VCALENDAR
VERSION:2.0
PRODID:-//Sabre//Sabre VObject 4.5.7//EN
CALSCALE:GREGORIAN
BEGIN:VEVENT
UID:sabre-vobject-250e6549-ffe7-4dae-bafb-fead1a6cbcda
DTSTAMP:20260420T072402Z
SUMMARY:Fotografien von Robert Larsen
DESCRIPTION:https://stadtmarketing-neuburg.de/veranstaltungen/fotografien-v
 on-robert-larsen_id17702
DTSTART;TZID=Europe/Berlin:20240817T093000
DTEND;TZID=Europe/Berlin:20240817T120000
LOCATION:Stadtbücherei im Bücherturm\, Sèter Platz 1\, 86633 Neuburg an 
 der Donau
END:VEVENT
END:VCALENDAR
