BEGIN:VCALENDAR
VERSION:2.0
PRODID:-//Sabre//Sabre VObject 4.5.7//EN
CALSCALE:GREGORIAN
BEGIN:VEVENT
UID:sabre-vobject-7f053509-2b71-4e80-9394-2f88e131b05a
DTSTAMP:20260425T030154Z
SUMMARY:Schlossmarkt Mediterrano Sandizell
DESCRIPTION:https://stadtmarketing-neuburg.de/veranstaltungen/schlossmarkt-
 mediterrano-sandizell_id17764
DTSTART;TZID=Europe/Berlin:20240815T110000
DTEND;TZID=Europe/Berlin:20240815T200000
LOCATION:Wasserschloss Sandizell bei Schroben
END:VEVENT
END:VCALENDAR
