BEGIN:VCALENDAR
VERSION:2.0
PRODID:-//Sabre//Sabre VObject 4.5.7//EN
CALSCALE:GREGORIAN
BEGIN:VEVENT
UID:sabre-vobject-b689f5a4-5b01-4699-ac9a-d750bb9aed11
DTSTAMP:20260424T175046Z
SUMMARY:Schlossmarkt Mediterrano Sandizell
DESCRIPTION:https://stadtmarketing-neuburg.de/veranstaltungen/schlossmarkt-
 mediterrano-sandizell_id17774
DTSTART;TZID=Europe/Berlin:20240816T110000
DTEND;TZID=Europe/Berlin:20240816T200000
LOCATION:Wasserschloss Sandizell bei Schroben
END:VEVENT
END:VCALENDAR
