BEGIN:VCALENDAR
VERSION:2.0
PRODID:-//Sabre//Sabre VObject 4.5.7//EN
CALSCALE:GREGORIAN
BEGIN:VEVENT
UID:sabre-vobject-8a062bc4-36f4-48ae-91f6-93f4ed977fa4
DTSTAMP:20260420T054815Z
SUMMARY:Schlossmarkt Mediterrano Sandizell
DESCRIPTION:https://stadtmarketing-neuburg.de/veranstaltungen/schlossmarkt-
 mediterrano-sandizell_id17775
DTSTART;TZID=Europe/Berlin:20240817T110000
DTEND;TZID=Europe/Berlin:20240817T220000
LOCATION:Wasserschloss Sandizell bei Schroben
END:VEVENT
END:VCALENDAR
