BEGIN:VCALENDAR
VERSION:2.0
PRODID:-//Sabre//Sabre VObject 4.5.7//EN
CALSCALE:GREGORIAN
BEGIN:VEVENT
UID:sabre-vobject-cb64bb74-1949-4ee6-8613-a010d427e9b7
DTSTAMP:20260419T232743Z
SUMMARY:Schlossmarkt Mediterrano Sandizell
DESCRIPTION:https://stadtmarketing-neuburg.de/veranstaltungen/schlossmarkt-
 mediterrano-sandizell_id17776
DTSTART;TZID=Europe/Berlin:20240818T110000
DTEND;TZID=Europe/Berlin:20240818T180000
LOCATION:Wasserschloss Sandizell bei Schroben
END:VEVENT
END:VCALENDAR
