BEGIN:VCALENDAR
VERSION:2.0
PRODID:-//Sabre//Sabre VObject 4.5.7//EN
CALSCALE:GREGORIAN
BEGIN:VEVENT
UID:sabre-vobject-1a963191-10e8-4413-8104-d6efad7e91fa
DTSTAMP:20260424T125743Z
SUMMARY:Dr. Will's New Orleans Caravan
DESCRIPTION:https://stadtmarketing-neuburg.de/veranstaltungen/dr-will-s-new
 -orleans-caravan_id18028
DTSTART;TZID=Europe/Berlin:20240816T190000
LOCATION:Amalienhof
END:VEVENT
END:VCALENDAR
