BEGIN:VCALENDAR
VERSION:2.0
PRODID:-//Sabre//Sabre VObject 4.5.7//EN
CALSCALE:GREGORIAN
BEGIN:VEVENT
UID:sabre-vobject-905e92ec-06b3-438e-8f8b-7e9131f67ef7
DTSTAMP:20260420T024112Z
SUMMARY:Ö-Drei – Austropop vom Feinsten
DESCRIPTION:https://stadtmarketing-neuburg.de/veranstaltungen/oe-drei-austr
 opop-vom-feinsten_id18029
DTSTART;TZID=Europe/Berlin:20240817T190000
LOCATION:Amalienhof
END:VEVENT
END:VCALENDAR
