BEGIN:VCALENDAR
VERSION:2.0
PRODID:-//Sabre//Sabre VObject 4.5.7//EN
CALSCALE:GREGORIAN
BEGIN:VEVENT
UID:sabre-vobject-47ae8726-ca68-4ae7-a6c3-67aa97df0535
DTSTAMP:20260419T173138Z
SUMMARY:Gmahde Wiesn – Stefan OTTO
DESCRIPTION:https://stadtmarketing-neuburg.de/veranstaltungen/gmahde-wiesn-
 stefan-otto_id18030
DTSTART;TZID=Europe/Berlin:20240818T190000
LOCATION:Amalienhof
END:VEVENT
END:VCALENDAR
