BEGIN:VCALENDAR
VERSION:2.0
PRODID:-//Sabre//Sabre VObject 4.5.7//EN
CALSCALE:GREGORIAN
BEGIN:VEVENT
UID:sabre-vobject-2b2fb928-4c58-4926-944c-14b0ccac8ec9
DTSTAMP:20260424T205715Z
SUMMARY:Ausstellung  "SAXA - Ich liebe Worte"
DESCRIPTION:https://stadtmarketing-neuburg.de/veranstaltungen/ausstellung-s
 axa-ich-liebe-worte_id18214
DTSTART;TZID=Europe/Berlin:20240816T090000
DTEND;TZID=Europe/Berlin:20240816T180000
LOCATION:Die Galerie & Glaserei Nassler\, Spitalplatz C 198\, 86633 Neuburg
  an der Donau
END:VEVENT
END:VCALENDAR
