BEGIN:VCALENDAR
VERSION:2.0
PRODID:-//Sabre//Sabre VObject 4.5.7//EN
CALSCALE:GREGORIAN
BEGIN:VEVENT
UID:sabre-vobject-c29668a1-d70e-428c-966c-7f69823d2ed9
DTSTAMP:20260422T082146Z
SUMMARY:Ausstellung  "SAXA - Ich liebe Worte"
DESCRIPTION:https://stadtmarketing-neuburg.de/veranstaltungen/ausstellung-s
 axa-ich-liebe-worte_id18220
DTSTART;TZID=Europe/Berlin:20240817T090000
DTEND;TZID=Europe/Berlin:20240817T110000
LOCATION:Die Galerie & Glaserei Nassler\, Spitalplatz C 198\, 86633 Neuburg
  an der Donau
END:VEVENT
END:VCALENDAR
