BEGIN:VCALENDAR
VERSION:2.0
PRODID:-//Sabre//Sabre VObject 4.5.7//EN
CALSCALE:GREGORIAN
BEGIN:VEVENT
UID:sabre-vobject-5ed109d2-ae4b-4638-8c0d-047310bab24c
DTSTAMP:20260424T161906Z
SUMMARY:Boule-Spiel auf dem Karlsplatz
DESCRIPTION:https://stadtmarketing-neuburg.de/veranstaltungen/boule-spiel-a
 uf-dem-karlsplatz_id18395
DTSTART;TZID=Europe/Berlin:20240816T140000
DTEND;TZID=Europe/Berlin:20240816T160000
LOCATION:Historischer Karlsplatz\, Karlsplatz\, 86633 Neuburg an der Donau
END:VEVENT
END:VCALENDAR
