BEGIN:VCALENDAR
VERSION:2.0
PRODID:-//Sabre//Sabre VObject 4.5.7//EN
CALSCALE:GREGORIAN
BEGIN:VEVENT
UID:sabre-vobject-0020bba5-ef8d-474d-91d8-e4f9239859ae
DTSTAMP:20260419T203225Z
SUMMARY:Natur aus zweiter Hand | Auenzentrum
DESCRIPTION:https://stadtmarketing-neuburg.de/veranstaltungen/natur-aus-zwe
 iter-hand-auenzentrum_id18513
DTSTART;TZID=Europe/Berlin:20240818T134500
DTEND;TZID=Europe/Berlin:20240818T160000
LOCATION:Jagdschloss Grünau\, Schloss Grünau 1\, 86633 Neuburg an der Don
 au
END:VEVENT
END:VCALENDAR
