BEGIN:VCALENDAR
VERSION:2.0
PRODID:-//Sabre//Sabre VObject 4.5.7//EN
CALSCALE:GREGORIAN
BEGIN:VEVENT
UID:sabre-vobject-9f4417b3-566a-4350-a045-bcc3b641ebdf
DTSTAMP:20260425T105959Z
SUMMARY:Kartenspielen
DESCRIPTION:https://stadtmarketing-neuburg.de/veranstaltungen/kartenspielen
 _id18623
DTSTART;TZID=Europe/Berlin:20240814T143000
DTEND;TZID=Europe/Berlin:20240814T180000
LOCATION:Gasthof Pfafflinger
END:VEVENT
END:VCALENDAR
