BEGIN:VCALENDAR
VERSION:2.0
PRODID:-//Sabre//Sabre VObject 4.5.7//EN
CALSCALE:GREGORIAN
BEGIN:VEVENT
UID:sabre-vobject-ec95bfb1-8b7c-4f8a-8673-86d37e9b6702
DTSTAMP:20260419T142736Z
SUMMARY:Freiluft-Training (Gymnastik)
DESCRIPTION:https://stadtmarketing-neuburg.de/veranstaltungen/freiluft-trai
 ning-gymnastik_id18625
DTSTART;TZID=Europe/Berlin:20240820T100000
DTEND;TZID=Europe/Berlin:20240820T110000
LOCATION:Bürgerhaus Ostend\, Berliner Straße 164\, 86633 Neuburg an der D
 onau
END:VEVENT
END:VCALENDAR
