BEGIN:VCALENDAR
VERSION:2.0
PRODID:-//Sabre//Sabre VObject 4.5.7//EN
CALSCALE:GREGORIAN
BEGIN:VEVENT
UID:sabre-vobject-0c4df88b-b0ce-46e2-8ac2-afde4104b88f
DTSTAMP:20260424T144926Z
SUMMARY:Steckerlfischessen
DESCRIPTION:https://stadtmarketing-neuburg.de/veranstaltungen/steckerlfisch
 essen_id18633
DTSTART;TZID=Europe/Berlin:20240816T173000
LOCATION:Biergarten Zum Saliter\, Saliterweg 31\, 86633 Neuburg an der Dona
 u
END:VEVENT
END:VCALENDAR
