BEGIN:VCALENDAR
VERSION:2.0
PRODID:-//Sabre//Sabre VObject 4.5.7//EN
CALSCALE:GREGORIAN
BEGIN:VEVENT
UID:sabre-vobject-5ecabb3b-e557-49b8-8f40-adbac5dd7a4b
DTSTAMP:20260421T093103Z
SUMMARY:Rund um den Esel
DESCRIPTION:https://stadtmarketing-neuburg.de/veranstaltungen/rund-um-den-e
 sel_id18678
DTSTART;TZID=Europe/Berlin:20240919T150000
DTEND;TZID=Europe/Berlin:20240919T170000
LOCATION:Moorhof\, Hauptstraße 25\, 86668 Karlshuld
END:VEVENT
END:VCALENDAR
