BEGIN:VCALENDAR
VERSION:2.0
PRODID:-//Sabre//Sabre VObject 4.5.7//EN
CALSCALE:GREGORIAN
BEGIN:VEVENT
UID:sabre-vobject-e7354c02-0c99-4e7e-865f-d924d6ff20dd
DTSTAMP:20260421T224738Z
SUMMARY:Höhepunkte der Altstadt
DESCRIPTION:https://stadtmarketing-neuburg.de/veranstaltungen/hoehepunkte-d
 er-altstadt_id19480
DTSTART;TZID=Europe/Berlin:20250902T143000
DTEND;TZID=Europe/Berlin:20250902T153000
LOCATION:Tourist-Information\, Ottheinrichplatz A 118\, 86633 Neuburg
END:VEVENT
END:VCALENDAR
