BEGIN:VCALENDAR
VERSION:2.0
PRODID:-//Sabre//Sabre VObject 4.5.7//EN
CALSCALE:GREGORIAN
BEGIN:VEVENT
UID:sabre-vobject-fe3d95b2-8bd4-4d4e-9866-08438034a5be
DTSTAMP:20260422T053210Z
SUMMARY: Provinzialbibliotheksführung
DESCRIPTION:https://stadtmarketing-neuburg.de/veranstaltungen/provinzialbib
 liotheksfuehrung_id19481
DTSTART;TZID=Europe/Berlin:20250903T143000
DTEND;TZID=Europe/Berlin:20250903T150000
LOCATION:Provinzialbibliothek\, Karlsplatz 17\, 86633 Neuburg an der Donau
END:VEVENT
END:VCALENDAR
