BEGIN:VCALENDAR
VERSION:2.0
PRODID:-//Sabre//Sabre VObject 4.5.7//EN
CALSCALE:GREGORIAN
BEGIN:VEVENT
UID:sabre-vobject-874b3834-e09b-4d87-b4ee-e53577ab9ef0
DTSTAMP:20260422T065158Z
SUMMARY:Höhepunkte der Altstadt
DESCRIPTION:https://stadtmarketing-neuburg.de/veranstaltungen/hoehepunkte-d
 er-altstadt_id19482
DTSTART;TZID=Europe/Berlin:20250903T170000
DTEND;TZID=Europe/Berlin:20250903T180000
LOCATION:Tourist-Information\, Ottheinrichplatz A 118\, 86633 Neuburg
END:VEVENT
END:VCALENDAR
