BEGIN:VCALENDAR
VERSION:2.0
PRODID:-//Sabre//Sabre VObject 4.5.7//EN
CALSCALE:GREGORIAN
BEGIN:VEVENT
UID:sabre-vobject-210688db-ec90-4853-83d7-daa4da68a23b
DTSTAMP:20260424T222422Z
SUMMARY:Öffentliche Stadtführung
DESCRIPTION:https://stadtmarketing-neuburg.de/veranstaltungen/oeffentliche-
 stadtfuehrung_id19485
DTSTART;TZID=Europe/Berlin:20250906T160000
DTEND;TZID=Europe/Berlin:20250906T173000
LOCATION:Tourist-Information\, Ottheinrichplatz A 118\, 86633 Neuburg
END:VEVENT
END:VCALENDAR
