BEGIN:VCALENDAR
VERSION:2.0
PRODID:-//Sabre//Sabre VObject 4.5.7//EN
CALSCALE:GREGORIAN
BEGIN:VEVENT
UID:sabre-vobject-d8491372-5447-4c62-b6f0-b8501558bf20
DTSTAMP:20260425T040145Z
SUMMARY:Schlosstour am Sonntag
DESCRIPTION:https://stadtmarketing-neuburg.de/veranstaltungen/schlosstour-a
 m-sonntag_id19486
DTSTART;TZID=Europe/Berlin:20250907T113000
DTEND;TZID=Europe/Berlin:20250907T130000
LOCATION:Residenzschloss Neuburg\, Residenzstraße 2\, 86633 Neuburg an der
  Donau
END:VEVENT
END:VCALENDAR
