BEGIN:VCALENDAR
VERSION:2.0
PRODID:-//Sabre//Sabre VObject 4.5.7//EN
CALSCALE:GREGORIAN
BEGIN:VEVENT
UID:sabre-vobject-6328cba4-ef31-4986-a59d-62320202e475
DTSTAMP:20260425T103206Z
SUMMARY:Öffentliche Stadtführung
DESCRIPTION:https://stadtmarketing-neuburg.de/veranstaltungen/oeffentliche-
 stadtfuehrung_id19487
DTSTART;TZID=Europe/Berlin:20250907T143000
DTEND;TZID=Europe/Berlin:20250907T160000
LOCATION:Tourist-Information\, Ottheinrichplatz A 118\, 86633 Neuburg
END:VEVENT
END:VCALENDAR
