BEGIN:VCALENDAR
VERSION:2.0
PRODID:-//Sabre//Sabre VObject 4.5.7//EN
CALSCALE:GREGORIAN
BEGIN:VEVENT
UID:sabre-vobject-fb0f885c-8c75-4d32-9253-59ef43e2bf8a
DTSTAMP:20260422T040902Z
SUMMARY:Familienmittwoch | Hinter den Kulissen des Schlosses
DESCRIPTION:https://stadtmarketing-neuburg.de/veranstaltungen/familienmittw
 och-hinter-den-kulissen-des-schlosses_id19578
DTSTART;TZID=Europe/Berlin:20250903T094500
LOCATION:Residenzschloss Neuburg\, Residenzstraße 2\, 86633 Neuburg an der
  Donau
END:VEVENT
END:VCALENDAR
