BEGIN:VCALENDAR
VERSION:2.0
PRODID:-//Sabre//Sabre VObject 4.5.7//EN
CALSCALE:GREGORIAN
BEGIN:VEVENT
UID:sabre-vobject-e2ce4a2d-8614-489c-a190-ce5cc517b9e1
DTSTAMP:20260422T011726Z
SUMMARY:Wochenmarkt
DESCRIPTION:https://stadtmarketing-neuburg.de/veranstaltungen/wochenmarkt_i
 d19706
DTSTART;TZID=Europe/Berlin:20250903T063000
DTEND;TZID=Europe/Berlin:20250903T123000
LOCATION:Schrannenplatz\, Schrannenplatz\, 86633 Neuburg an der Donau
END:VEVENT
END:VCALENDAR
