BEGIN:VCALENDAR
VERSION:2.0
PRODID:-//Sabre//Sabre VObject 4.5.7//EN
CALSCALE:GREGORIAN
BEGIN:VEVENT
UID:sabre-vobject-9f288781-d042-4520-854b-1f4a6e3993cf
DTSTAMP:20260424T162726Z
SUMMARY:Wochenmarkt
DESCRIPTION:https://stadtmarketing-neuburg.de/veranstaltungen/wochenmarkt_i
 d19707
DTSTART;TZID=Europe/Berlin:20250906T063000
DTEND;TZID=Europe/Berlin:20250906T123000
LOCATION:Schrannenplatz\, Schrannenplatz\, 86633 Neuburg an der Donau
END:VEVENT
END:VCALENDAR
