BEGIN:VCALENDAR
VERSION:2.0
PRODID:-//Sabre//Sabre VObject 4.5.7//EN
CALSCALE:GREGORIAN
BEGIN:VEVENT
UID:sabre-vobject-ed413084-9835-479d-a45e-0f7b26add977
DTSTAMP:20260424T234848Z
SUMMARY:Vulkane - Explosive Ventile der Erde 
DESCRIPTION:https://stadtmarketing-neuburg.de/veranstaltungen/vulkane-explo
 sive-ventile-der-erde_id19805
DTSTART;TZID=Europe/Berlin:20250907T100000
DTEND;TZID=Europe/Berlin:20250907T170000
LOCATION:Ottheinrichturm\, \, 86633 Neuburg an der Donau
END:VEVENT
END:VCALENDAR
