BEGIN:VCALENDAR
VERSION:2.0
PRODID:-//Sabre//Sabre VObject 4.5.7//EN
CALSCALE:GREGORIAN
BEGIN:VEVENT
UID:sabre-vobject-05f042e4-85f3-4cd6-bebd-7e3ac0c01c0c
DTSTAMP:20260424T095523Z
SUMMARY:LesBar
DESCRIPTION:https://stadtmarketing-neuburg.de/veranstaltungen/lesbar_id2014
 6
DTSTART;TZID=Europe/Berlin:20250904T190000
DTEND;TZID=Europe/Berlin:20250904T203000
LOCATION:Stadtbücherei im Bücherturm
END:VEVENT
END:VCALENDAR
