BEGIN:VCALENDAR
VERSION:2.0
PRODID:-//Sabre//Sabre VObject 4.5.7//EN
CALSCALE:GREGORIAN
BEGIN:VEVENT
UID:sabre-vobject-c985d933-54f6-4cea-ae33-6613d10d20ab
DTSTAMP:20260421T175316Z
SUMMARY:Ausstellung Günther Frühmesser
DESCRIPTION:https://stadtmarketing-neuburg.de/veranstaltungen/ausstellung-g
 uenther-fruehmesser_id20393
DTSTART;TZID=Europe/Berlin:20250901T090000
DTEND;TZID=Europe/Berlin:20250901T180000
LOCATION:Die Galerie & Glaserei Nassler\, Spitalplatz C 198\, 86633 Neuburg
  an der Donau
END:VEVENT
END:VCALENDAR
