BEGIN:VCALENDAR
VERSION:2.0
PRODID:-//Sabre//Sabre VObject 4.5.7//EN
CALSCALE:GREGORIAN
BEGIN:VEVENT
UID:sabre-vobject-e7622078-3dfa-439b-87b3-643ecd65fc80
DTSTAMP:20260421T192632Z
SUMMARY:Ausstellung Günther Frühmesser
DESCRIPTION:https://stadtmarketing-neuburg.de/veranstaltungen/ausstellung-g
 uenther-fruehmesser_id20394
DTSTART;TZID=Europe/Berlin:20250902T090000
DTEND;TZID=Europe/Berlin:20250902T180000
LOCATION:Die Galerie & Glaserei Nassler\, Spitalplatz C 198\, 86633 Neuburg
  an der Donau
END:VEVENT
END:VCALENDAR
