BEGIN:VCALENDAR
VERSION:2.0
PRODID:-//Sabre//Sabre VObject 4.5.7//EN
CALSCALE:GREGORIAN
BEGIN:VEVENT
UID:sabre-vobject-f7d08530-fa85-45ce-84c5-3aea3107b531
DTSTAMP:20260422T024442Z
SUMMARY:Ausstellung Günther Frühmesser
DESCRIPTION:https://stadtmarketing-neuburg.de/veranstaltungen/ausstellung-g
 uenther-fruehmesser_id20395
DTSTART;TZID=Europe/Berlin:20250903T090000
DTEND;TZID=Europe/Berlin:20250903T180000
LOCATION:Die Galerie & Glaserei Nassler\, Spitalplatz C 198\, 86633 Neuburg
  an der Donau
END:VEVENT
END:VCALENDAR
