BEGIN:VCALENDAR
VERSION:2.0
PRODID:-//Sabre//Sabre VObject 4.5.7//EN
CALSCALE:GREGORIAN
BEGIN:VEVENT
UID:sabre-vobject-444b3222-6e80-47b9-8889-eda6fb79c1dd
DTSTAMP:20260422T075430Z
SUMMARY:Ausstellung Günther Frühmesser
DESCRIPTION:https://stadtmarketing-neuburg.de/veranstaltungen/ausstellung-g
 uenther-fruehmesser_id20396
DTSTART;TZID=Europe/Berlin:20250904T090000
DTEND;TZID=Europe/Berlin:20250904T180000
LOCATION:Die Galerie & Glaserei Nassler\, Spitalplatz C 198\, 86633 Neuburg
  an der Donau
END:VEVENT
END:VCALENDAR
