BEGIN:VCALENDAR
VERSION:2.0
PRODID:-//Sabre//Sabre VObject 4.5.7//EN
CALSCALE:GREGORIAN
BEGIN:VEVENT
UID:sabre-vobject-b5b4712f-6331-4ce4-a9d3-b48a082fe11a
DTSTAMP:20260424T184628Z
SUMMARY:Ausstellung Günther Frühmesser
DESCRIPTION:https://stadtmarketing-neuburg.de/veranstaltungen/ausstellung-g
 uenther-fruehmesser_id20398
DTSTART;TZID=Europe/Berlin:20250906T090000
DTEND;TZID=Europe/Berlin:20250906T130000
LOCATION:Die Galerie & Glaserei Nassler\, Spitalplatz C 198\, 86633 Neuburg
  an der Donau
END:VEVENT
END:VCALENDAR
