BEGIN:VCALENDAR
VERSION:2.0
PRODID:-//Sabre//Sabre VObject 4.5.7//EN
CALSCALE:GREGORIAN
BEGIN:VEVENT
UID:sabre-vobject-cb217bc2-467b-41be-934f-ce9694066f50
DTSTAMP:20260419T125754Z
SUMMARY:Andrea Viebach SCHLAF DER VERNUNFT 
DESCRIPTION:https://stadtmarketing-neuburg.de/veranstaltungen/andrea-viebac
 h-schlaf-der-vernunft_id20852
DTSTART;TZID=Europe/Berlin:19710920T110000
DTEND;TZID=Europe/Berlin:19710920T190000
LOCATION:Städtische Galerie im Fürstengang\, Amalienstraße\, 86633 Neubu
 rg an der Donau
END:VEVENT
END:VCALENDAR
