BEGIN:VCALENDAR
VERSION:2.0
PRODID:-//Sabre//Sabre VObject 4.5.7//EN
CALSCALE:GREGORIAN
BEGIN:VEVENT
UID:sabre-vobject-031d1005-4038-4bd9-821a-0d0ca1758895
DTSTAMP:20260421T162747Z
SUMMARY:The Handpan Kora Spirit Ensemble
DESCRIPTION:https://stadtmarketing-neuburg.de/veranstaltungen/the-handpan-k
 ora-spirit-ensemble_id23719
DTSTART;TZID=Europe/Berlin:20250831T190000
DTEND;TZID=Europe/Berlin:20250831T194500
LOCATION:Schlosskapelle\, Residenzstraße 2\, 86633 Neuburg
END:VEVENT
END:VCALENDAR
