BEGIN:VCALENDAR
VERSION:2.0
PRODID:-//Sabre//Sabre VObject 4.5.7//EN
CALSCALE:GREGORIAN
BEGIN:VEVENT
UID:sabre-vobject-41ec9462-79ba-4222-a99b-f34c3289477e
DTSTAMP:20260426T011929Z
SUMMARY:Freiluft-Training (Gymnastik)
DESCRIPTION:https://stadtmarketing-neuburg.de/veranstaltungen/freiluft-trai
 ning-gymnastik_id23746
DTSTART;TZID=Europe/Berlin:20260421T100000
DTEND;TZID=Europe/Berlin:20260421T104500
LOCATION:Bürgerhaus Ostend\, Berliner Straße 164\, 86633 Neuburg an der D
 onau
END:VEVENT
END:VCALENDAR
