BEGIN:VCALENDAR
VERSION:2.0
PRODID:-//Sabre//Sabre VObject 4.5.7//EN
CALSCALE:GREGORIAN
BEGIN:VEVENT
UID:sabre-vobject-c0af3710-74ac-4028-bc04-11a17dc0aad8
DTSTAMP:20260425T022829Z
SUMMARY:Jahresausstellung des Neuburger Kunstkreises
DESCRIPTION:https://stadtmarketing-neuburg.de/veranstaltungen/jahresausstel
 lung-des-neuburger-kunstkreises_id23786
DTSTART;TZID=Europe/Berlin:20250907T110000
DTEND;TZID=Europe/Berlin:20250907T190000
END:VEVENT
END:VCALENDAR
