BEGIN:VCALENDAR
VERSION:2.0
PRODID:-//Sabre//Sabre VObject 4.5.7//EN
CALSCALE:GREGORIAN
BEGIN:VEVENT
UID:sabre-vobject-b1bb09a4-f3f9-4059-a73c-83fca0179422
DTSTAMP:20260421T210901Z
SUMMARY:Freiluft-Training (Gymnastik)
DESCRIPTION:https://stadtmarketing-neuburg.de/veranstaltungen/freiluft-trai
 ning-gymnastik_id23976
DTSTART;TZID=Europe/Berlin:20250902T100000
DTEND;TZID=Europe/Berlin:20250902T104500
LOCATION:Bürgerhaus Ostend\, Berliner Straße 164\, 86633 Neuburg an der D
 onau
END:VEVENT
END:VCALENDAR
