BEGIN:VCALENDAR
VERSION:2.0
PRODID:-//Sabre//Sabre VObject 4.5.7//EN
CALSCALE:GREGORIAN
BEGIN:VEVENT
UID:sabre-vobject-560e280f-33c2-4a9c-8ba2-4782492c53ea
DTSTAMP:20260424T140129Z
SUMMARY:1. Neuburger Wein-Schlossfest
DESCRIPTION:https://stadtmarketing-neuburg.de/veranstaltungen/1-neuburger-w
 ein-schlossfest_id24091
DTSTART;TZID=Europe/Berlin:20250905T140000
DTEND;TZID=Europe/Berlin:20250905T233000
LOCATION:Residenzschloss Neuburg\, Residenzstraße 2\, 86633 Neuburg an der
  Donau
END:VEVENT
END:VCALENDAR
