BEGIN:VCALENDAR
VERSION:2.0
PRODID:-//Sabre//Sabre VObject 4.5.7//EN
CALSCALE:GREGORIAN
BEGIN:VEVENT
UID:sabre-vobject-3a4acc15-c6e9-4756-8073-dcda09185d67
DTSTAMP:20260424T201718Z
SUMMARY:1. Neuburger Wein-Schlossfest
DESCRIPTION:https://stadtmarketing-neuburg.de/veranstaltungen/1-neuburger-w
 ein-schlossfest_id24092
DTSTART;TZID=Europe/Berlin:20250906T100000
DTEND;TZID=Europe/Berlin:20250906T233000
LOCATION:Residenzschloss Neuburg\, Residenzstraße 2\, 86633 Neuburg an der
  Donau
END:VEVENT
END:VCALENDAR
