BEGIN:VCALENDAR
VERSION:2.0
PRODID:-//Sabre//Sabre VObject 4.5.7//EN
CALSCALE:GREGORIAN
BEGIN:VEVENT
UID:sabre-vobject-15b67052-3775-44d8-a517-d9c89dc9f022
DTSTAMP:20260421T092943Z
SUMMARY:Frühjahrsausstellung des Neuburger Kunstkreises e.V. 
DESCRIPTION:https://stadtmarketing-neuburg.de/veranstaltungen/fruehjahrsaus
 stellung-des-neuburger-kunstkreises-e-v_id24553
DTSTART;TZID=Europe/Berlin:20260405T110000
DTEND;TZID=Europe/Berlin:20260405T190000
LOCATION:Städtische Galerie im Fürstengang\, Amalienstraße\, 86633 Neubu
 rg an der Donau
END:VEVENT
END:VCALENDAR
